BEGIN:VCALENDAR
VERSION:2.0
PRODID:SchoolNow
CALSCALE:GREGORIAN
BEGIN:VEVENT
UID:f722514a-ba84-11f0-a13c-0a58a9feac02
DTSTAMP:20260419T142545Z
SUMMARY:ELC - Popcorn Day
URL;VALUE=URI:https://www.sau81.org/elc/calendar/8779565/elc-popcorn-day
DTSTART;VALUE=DATE:20260319
DTEND;VALUE=DATE:20260320
END:VEVENT
END:VCALENDAR
