BEGIN:VCALENDAR
VERSION:2.0
PRODID:SchoolNow
CALSCALE:GREGORIAN
BEGIN:VEVENT
UID:f7224f56-ba84-11f0-ba8a-0a58a9feac02
DTSTAMP:20260419T142545Z
SUMMARY:ELC - Popcorn Day
URL;VALUE=URI:https://www.sau81.org/elc/calendar/8779563/elc-popcorn-day
DTSTART;VALUE=DATE:20260115
DTEND;VALUE=DATE:20260116
END:VEVENT
END:VCALENDAR
