BEGIN:VCALENDAR
VERSION:2.0
PRODID:SchoolNow
CALSCALE:GREGORIAN
BEGIN:VEVENT
UID:c6e38a68-4113-11ee-a567-0a58a9feac02
DTSTAMP:20230822T175148Z
SUMMARY:Bring Your Family to School Night
LOCATION:Dr. H.O. Smith School
URL;VALUE=URI:https://www.sau81.org/elc/calendar/4610030/bring-your-family-
 to-school-night
DTSTART:20231011T223000Z
DTEND:20231011T233000Z
END:VEVENT
END:VCALENDAR
