BEGIN:VCALENDAR
VERSION:2.0
PRODID:SchoolNow
CALSCALE:GREGORIAN
BEGIN:VEVENT
UID:a9918b08-0cfa-11f1-9488-0ed75de22805
DTSTAMP:20260419T203051Z
SUMMARY:HSD- Winter Break (No school)
URL;VALUE=URI:https://www.sau81.org/calendar/8859194/hsd-winter-break-no-sc
 hool
DTSTART;VALUE=DATE:20270223
DTEND;VALUE=DATE:20270224
END:VEVENT
END:VCALENDAR
