BEGIN:VCALENDAR
VERSION:2.0
PRODID:SchoolNow
CALSCALE:GREGORIAN
BEGIN:VEVENT
UID:a9918928-0cfa-11f1-97b5-0ed75de22805
DTSTAMP:20260419T203051Z
SUMMARY:HSD- Winter Break (No school)
URL;VALUE=URI:https://www.sau81.org/calendar/8859192/hsd-winter-break-no-sc
 hool
DTSTART;VALUE=DATE:20270226
DTEND;VALUE=DATE:20270227
END:VEVENT
END:VCALENDAR
