BEGIN:VCALENDAR
VERSION:2.0
PRODID:SchoolNow
CALSCALE:GREGORIAN
BEGIN:VEVENT
UID:a9918806-0cfa-11f1-b0f8-0ed75de22805
DTSTAMP:20260419T203051Z
SUMMARY:HSD- Teacher Workshop (No school for students)
URL;VALUE=URI:https://www.sau81.org/calendar/8859191/hsd-teacher-workshop-n
 o-school-for-students
DTSTART;VALUE=DATE:20270309
DTEND;VALUE=DATE:20270310
END:VEVENT
END:VCALENDAR
