BEGIN:VCALENDAR
VERSION:2.0
PRODID:SchoolNow
CALSCALE:GREGORIAN
BEGIN:VEVENT
UID:a991872a-0cfa-11f1-b3a5-0ed75de22805
DTSTAMP:20260419T203051Z
SUMMARY:HSD- Teacher Workshop- Early release for students
URL;VALUE=URI:https://www.sau81.org/calendar/8859190/hsd-teacher-workshop-e
 arly-release-for-students
DTSTART;VALUE=DATE:20270210
DTEND;VALUE=DATE:20270211
END:VEVENT
END:VCALENDAR
