BEGIN:VCALENDAR
VERSION:2.0
PRODID:SchoolNow
CALSCALE:GREGORIAN
BEGIN:VEVENT
UID:a9918522-0cfa-11f1-883c-0ed75de22805
DTSTAMP:20260419T203051Z
SUMMARY:HSD- Winter Break (No school)
URL;VALUE=URI:https://www.sau81.org/calendar/8859188/hsd-winter-break-no-sc
 hool
DTSTART;VALUE=DATE:20270222
DTEND;VALUE=DATE:20270223
END:VEVENT
END:VCALENDAR
