BEGIN:VCALENDAR
VERSION:2.0
PRODID:SchoolNow
CALSCALE:GREGORIAN
BEGIN:VEVENT
UID:a9918284-0cfa-11f1-a663-0ed75de22805
DTSTAMP:20260420T023547Z
SUMMARY:HSD- Teacher Workshop (am only)
URL;VALUE=URI:https://www.sau81.org/calendar/8859185/hsd-teacher-workshop-a
 m-only
DTSTART;VALUE=DATE:20270618
DTEND;VALUE=DATE:20270619
END:VEVENT
END:VCALENDAR
