BEGIN:VCALENDAR
VERSION:2.0
PRODID:SchoolNow
CALSCALE:GREGORIAN
BEGIN:VEVENT
UID:a9918162-0cfa-11f1-9e96-0ed75de22805
DTSTAMP:20260419T082050Z
SUMMARY:HSD- Labor Day (No School)
URL;VALUE=URI:https://www.sau81.org/calendar/8859184/hsd-labor-day-no-schoo
 l
DTSTART;VALUE=DATE:20260907
DTEND;VALUE=DATE:20260908
END:VEVENT
END:VCALENDAR
