BEGIN:VCALENDAR
VERSION:2.0
PRODID:SchoolNow
CALSCALE:GREGORIAN
BEGIN:VEVENT
UID:a9918090-0cfa-11f1-9160-0ed75de22805
DTSTAMP:20260419T142546Z
SUMMARY:HSD - Holiday Break (No school)
URL;VALUE=URI:https://www.sau81.org/calendar/8859183/hsd-holiday-break-no-s
 chool
DTSTART;VALUE=DATE:20270101
DTEND;VALUE=DATE:20270102
END:VEVENT
END:VCALENDAR
