BEGIN:VCALENDAR
VERSION:2.0
PRODID:SchoolNow
CALSCALE:GREGORIAN
BEGIN:VEVENT
UID:a9917f96-0cfa-11f1-b8be-0ed75de22805
DTSTAMP:20260419T142546Z
SUMMARY:HSD - Thanksgiving Break (No school)
URL;VALUE=URI:https://www.sau81.org/calendar/8859182/hsd-thanksgiving-break
 -no-school
DTSTART;VALUE=DATE:20261127
DTEND;VALUE=DATE:20261128
END:VEVENT
END:VCALENDAR
