BEGIN:VCALENDAR
VERSION:2.0
PRODID:SchoolNow
CALSCALE:GREGORIAN
BEGIN:VEVENT
UID:a9917e9c-0cfa-11f1-b560-0ed75de22805
DTSTAMP:20260419T142546Z
SUMMARY:HSD- Columbus Day (No school)
URL;VALUE=URI:https://www.sau81.org/calendar/8859181/hsd-columbus-day-no-sc
 hool
DTSTART;VALUE=DATE:20261012
DTEND;VALUE=DATE:20261013
END:VEVENT
END:VCALENDAR
