BEGIN:VCALENDAR
VERSION:2.0
PRODID:SchoolNow
CALSCALE:GREGORIAN
BEGIN:VEVENT
UID:a9917db6-0cfa-11f1-a261-0ed75de22805
DTSTAMP:20260419T203051Z
SUMMARY:HSD- Spring Break (No school)
URL;VALUE=URI:https://www.sau81.org/calendar/8859180/hsd-spring-break-no-sc
 hool
DTSTART;VALUE=DATE:20270426
DTEND;VALUE=DATE:20270427
END:VEVENT
END:VCALENDAR
