BEGIN:VCALENDAR
VERSION:2.0
PRODID:SchoolNow
CALSCALE:GREGORIAN
BEGIN:VEVENT
UID:a9917cda-0cfa-11f1-83de-0ed75de22805
DTSTAMP:20260420T023547Z
SUMMARY:HSD- Tentative last day for students
URL;VALUE=URI:https://www.sau81.org/calendar/8859179/hsd-tentative-last-day
 -for-students
DTSTART;VALUE=DATE:20270617
DTEND;VALUE=DATE:20270618
END:VEVENT
END:VCALENDAR
