BEGIN:VCALENDAR
VERSION:2.0
PRODID:SchoolNow
CALSCALE:GREGORIAN
BEGIN:VEVENT
UID:a9917bf4-0cfa-11f1-842d-0ed75de22805
DTSTAMP:20260419T203051Z
SUMMARY:Memorial Day (No school)
URL;VALUE=URI:https://www.sau81.org/calendar/8859178/memorial-day-no-school
DTSTART;VALUE=DATE:20270531
DTEND;VALUE=DATE:20270601
END:VEVENT
END:VCALENDAR
