BEGIN:VCALENDAR
VERSION:2.0
PRODID:SchoolNow
CALSCALE:GREGORIAN
BEGIN:VEVENT
UID:a99179ce-0cfa-11f1-bc7a-0ed75de22805
DTSTAMP:20260419T203051Z
SUMMARY:HSD- Spring Break (No school)
URL;VALUE=URI:https://www.sau81.org/calendar/8859176/hsd-spring-break-no-sc
 hool
DTSTART;VALUE=DATE:20270429
DTEND;VALUE=DATE:20270430
END:VEVENT
END:VCALENDAR
