BEGIN:VCALENDAR
VERSION:2.0
PRODID:SchoolNow
CALSCALE:GREGORIAN
BEGIN:VEVENT
UID:a99178f2-0cfa-11f1-a78b-0ed75de22805
DTSTAMP:20260419T142546Z
SUMMARY:HSD- No School
URL;VALUE=URI:https://www.sau81.org/calendar/8859175/hsd-no-school
DTSTART;VALUE=DATE:20261009
DTEND;VALUE=DATE:20261010
END:VEVENT
END:VCALENDAR
