BEGIN:VCALENDAR
VERSION:2.0
PRODID:SchoolNow
CALSCALE:GREGORIAN
BEGIN:VEVENT
UID:a9917514-0cfa-11f1-9c1c-0ed75de22805
DTSTAMP:20260419T203051Z
SUMMARY:HSD- Spring Break (No school)
URL;VALUE=URI:https://www.sau81.org/calendar/8859171/hsd-spring-break-no-sc
 hool
DTSTART;VALUE=DATE:20270428
DTEND;VALUE=DATE:20270429
END:VEVENT
END:VCALENDAR
