BEGIN:VCALENDAR
VERSION:2.0
PRODID:SchoolNow
CALSCALE:GREGORIAN
BEGIN:VEVENT
UID:a9917370-0cfa-11f1-b177-0ed75de22805
DTSTAMP:20260419T203051Z
SUMMARY:HSD- Spring Break (No school)
URL;VALUE=URI:https://www.sau81.org/calendar/8859169/hsd-spring-break-no-sc
 hool
DTSTART;VALUE=DATE:20270430
DTEND;VALUE=DATE:20270501
END:VEVENT
END:VCALENDAR
