BEGIN:VCALENDAR
VERSION:2.0
PRODID:SchoolNow
CALSCALE:GREGORIAN
BEGIN:VEVENT
UID:a9917280-0cfa-11f1-9e8f-0ed75de22805
DTSTAMP:20260419T082050Z
SUMMARY:HSD- Teacher Workshop (No school for students)
URL;VALUE=URI:https://www.sau81.org/calendar/8859166/hsd-teacher-workshop-n
 o-school-for-students
DTSTART;VALUE=DATE:20260908
DTEND;VALUE=DATE:20260909
END:VEVENT
END:VCALENDAR
