BEGIN:VCALENDAR
VERSION:2.0
PRODID:SchoolNow
CALSCALE:GREGORIAN
BEGIN:VEVENT
UID:a991703c-0cfa-11f1-8547-0ed75de22805
DTSTAMP:20260419T142546Z
SUMMARY:HSD - Holiday Break (No school)
URL;VALUE=URI:https://www.sau81.org/calendar/8859162/hsd-holiday-break-no-s
 chool
DTSTART;VALUE=DATE:20261230
DTEND;VALUE=DATE:20261231
END:VEVENT
END:VCALENDAR
