BEGIN:VCALENDAR
VERSION:2.0
PRODID:SchoolNow
CALSCALE:GREGORIAN
BEGIN:VEVENT
UID:a9916f2e-0cfa-11f1-8c51-0ed75de22805
DTSTAMP:20260419T082050Z
SUMMARY:HSD- No School
URL;VALUE=URI:https://www.sau81.org/calendar/8859160/hsd-no-school
DTSTART;VALUE=DATE:20260904
DTEND;VALUE=DATE:20260905
END:VEVENT
END:VCALENDAR
