BEGIN:VCALENDAR
VERSION:2.0
PRODID:SchoolNow
CALSCALE:GREGORIAN
BEGIN:VEVENT
UID:a9916e34-0cfa-11f1-b8cb-0ed75de22805
DTSTAMP:20260419T142546Z
SUMMARY:HSD- Veteran's Day (Observed- No school)
URL;VALUE=URI:https://www.sau81.org/calendar/8859157/hsd-veterans-day-obser
 ved-no-school
DTSTART;VALUE=DATE:20261111
DTEND;VALUE=DATE:20261112
END:VEVENT
END:VCALENDAR
