BEGIN:VCALENDAR
VERSION:2.0
PRODID:SchoolNow
CALSCALE:GREGORIAN
BEGIN:VEVENT
UID:a9916d4e-0cfa-11f1-828f-0ed75de22805
DTSTAMP:20260419T142546Z
SUMMARY:HSD - Martin Luther King Jr./Civil Rights Day (No school)
URL;VALUE=URI:https://www.sau81.org/calendar/8859156/hsd-martin-luther-king
 -jr-civil-rights-day-no-school
DTSTART;VALUE=DATE:20270118
DTEND;VALUE=DATE:20270119
END:VEVENT
END:VCALENDAR
