BEGIN:VCALENDAR
VERSION:2.0
PRODID:SchoolNow
CALSCALE:GREGORIAN
BEGIN:VEVENT
UID:a991698e-0cfa-11f1-ba45-0ed75de22805
DTSTAMP:20260419T142546Z
SUMMARY:HSD- Teacher Workop (no school for students)
URL;VALUE=URI:https://www.sau81.org/calendar/8859148/hsd-teacher-workop-no-
 school-for-students
DTSTART;VALUE=DATE:20261103
DTEND;VALUE=DATE:20261104
END:VEVENT
END:VCALENDAR
