BEGIN:VCALENDAR
VERSION:2.0
PRODID:SchoolNow
CALSCALE:GREGORIAN
BEGIN:VEVENT
UID:8e7f8c92-efa6-11ef-af46-0a58a9feac02
DTSTAMP:20260420T023547Z
SUMMARY:HSD - Winter Break (No school)
URL;VALUE=URI:https://www.sau81.org/calendar/7508540/hsd-winter-break-no-sc
 hool
DTSTART;VALUE=DATE:20260224
DTEND;VALUE=DATE:20260225
END:VEVENT
END:VCALENDAR
