BEGIN:VCALENDAR
VERSION:2.0
PRODID:SchoolNow
CALSCALE:GREGORIAN
BEGIN:VEVENT
UID:8b8fe374-3e92-11f1-97a1-02180d8a75f3
DTSTAMP:20260423T094050Z
SUMMARY:AHS-Class Act Presents: Into the Woods
URL;VALUE=URI:https://www.sau81.org/ahs/calendar/9011792/ahs-class-act-pres
 ents-into-the-woods
DTSTART:20260517T170000Z
DTEND:20260517T190000Z
ATTACH;FILENAME=Into the Woods Promo.jpeg;FMTTYPE=image/jpeg:https://drive.
 google.com/open?id=1mXfdVo-vT8NFAWuq3DqKO0g4TdT3Xbh6
END:VEVENT
END:VCALENDAR
