BEGIN:VCALENDAR
VERSION:2.0
PRODID:SchoolNow
CALSCALE:GREGORIAN
BEGIN:VEVENT
UID:b45e2a4e-339e-11f1-a40a-025375afd94b
DTSTAMP:20260419T203051Z
SUMMARY:AHS-Quarter 4 Begins
URL;VALUE=URI:https://www.sau81.org/ahs/calendar/8979966/ahs-quarter-4-begi
 ns
DTSTART;VALUE=DATE:20260406
DTEND;VALUE=DATE:20260407
END:VEVENT
END:VCALENDAR
