BEGIN:VCALENDAR
VERSION:2.0
PRODID:SchoolNow
CALSCALE:GREGORIAN
BEGIN:VEVENT
UID:b45e2904-339e-11f1-854a-025375afd94b
DTSTAMP:20260421T150554Z
SUMMARY:AHS-iReady Spring 9th & 10th Grade Reading
URL;VALUE=URI:https://www.sau81.org/ahs/calendar/8979965/ahs-iready-spring-
 9th-10th-grade-reading
DTSTART;VALUE=DATE:20260611
DTEND;VALUE=DATE:20260612
END:VEVENT
END:VCALENDAR
