BEGIN:VCALENDAR
VERSION:2.0
PRODID:SchoolNow
CALSCALE:GREGORIAN
BEGIN:VEVENT
UID:b45e2792-339e-11f1-a709-025375afd94b
DTSTAMP:20260421T150554Z
SUMMARY:AHS-College Information Night
LOCATION:Alvirne Music Room
URL;VALUE=URI:https://www.sau81.org/ahs/calendar/8979964/ahs-college-inform
 ation-night
DTSTART:20260512T220000Z
DTEND:20260512T230000Z
ATTACH;FILENAME=Updated College Info Night 5.12.26.jpg;FMTTYPE=image/jpeg:h
 ttps://drive.google.com/open?id=1R2Ka8q3DZzHCJv_FQEThhmpoR6cyAWcm
END:VEVENT
END:VCALENDAR
