BEGIN:VCALENDAR
VERSION:2.0
PRODID:SchoolNow
CALSCALE:GREGORIAN
BEGIN:VEVENT
UID:b45e25d0-339e-11f1-9163-025375afd94b
DTSTAMP:20260421T150554Z
SUMMARY:AHS-Into the Woods In-School Performance
URL;VALUE=URI:https://www.sau81.org/ahs/calendar/8979963/ahs-into-the-woods
 -in-school-performance
DTSTART;VALUE=DATE:20260514
DTEND;VALUE=DATE:20260515
END:VEVENT
END:VCALENDAR
