BEGIN:VCALENDAR
VERSION:2.0
PRODID:SchoolNow
CALSCALE:GREGORIAN
BEGIN:VEVENT
UID:b45e2472-339e-11f1-aa2a-025375afd94b
DTSTAMP:20260421T150554Z
SUMMARY:AHS-CTE Awards Night
URL;VALUE=URI:https://www.sau81.org/ahs/calendar/8979962/ahs-cte-awards-nig
 ht
DTSTART:20260603T213000Z
DTEND:20260603T223000Z
END:VEVENT
END:VCALENDAR
