BEGIN:VCALENDAR
VERSION:2.0
PRODID:SchoolNow
CALSCALE:GREGORIAN
BEGIN:VEVENT
UID:b45e22ce-339e-11f1-9579-025375afd94b
DTSTAMP:20260421T150554Z
SUMMARY:AHS-Progress Reports
URL;VALUE=URI:https://www.sau81.org/ahs/calendar/8979961/ahs-progress-repor
 ts
DTSTART;VALUE=DATE:20260513
DTEND;VALUE=DATE:20260514
END:VEVENT
END:VCALENDAR
