BEGIN:VCALENDAR
VERSION:2.0
PRODID:SchoolNow
CALSCALE:GREGORIAN
BEGIN:VEVENT
UID:b45e1f54-339e-11f1-b04b-025375afd94b
DTSTAMP:20260421T150554Z
SUMMARY:AHS- AFSP Suicide Walk Sponsored by NHS
LOCATION:Alvirne High School\, 200 Derry Rd\, Hudson\, NH 03051\, USA
URL;VALUE=URI:https://www.sau81.org/ahs/calendar/8979959/ahs-afsp-suicide-w
 alk-sponsored-by-nhs
DTSTART:20260509T133000Z
DTEND:20260509T143000Z
ATTACH;FILENAME=social media afsp.png;FMTTYPE=image/png:https://drive.googl
 e.com/open?id=1K2-nkEDNTmEsvQ2TVFsdf1nv-WCKUJSj
END:VEVENT
END:VCALENDAR
