BEGIN:VCALENDAR
VERSION:2.0
PRODID:SchoolNow
CALSCALE:GREGORIAN
BEGIN:VEVENT
UID:b45e1608-339e-11f1-99c2-025375afd94b
DTSTAMP:20260421T150555Z
SUMMARY:AHS-ACT Exam
URL;VALUE=URI:https://www.sau81.org/ahs/calendar/8979956/ahs-act-exam
DTSTART:20260613T120000Z
DTEND:20260613T130000Z
END:VEVENT
END:VCALENDAR
