BEGIN:VCALENDAR
VERSION:2.0
PRODID:SchoolNow
CALSCALE:GREGORIAN
BEGIN:VEVENT
UID:b45e120c-339e-11f1-8322-025375afd94b
DTSTAMP:20260421T150555Z
SUMMARY:AHS-Unified Buddy Ball
URL;VALUE=URI:https://www.sau81.org/ahs/calendar/8979955/ahs-unified-buddy-
 ball
DTSTART:20260530T220000Z
DTEND:20260530T223000Z
END:VEVENT
END:VCALENDAR
