BEGIN:VCALENDAR
VERSION:2.0
PRODID:SchoolNow
CALSCALE:GREGORIAN
BEGIN:VEVENT
UID:3a705604-2943-11f1-a1fa-0a58a9feac02
DTSTAMP:20260421T150554Z
SUMMARY:AHS-Senior Prom
URL;VALUE=URI:https://www.sau81.org/ahs/calendar/8947360/ahs-senior-prom
DTSTART:20260609T220000Z
DTEND:20260610T020000Z
END:VEVENT
END:VCALENDAR
