BEGIN:VCALENDAR
VERSION:2.0
PRODID:SchoolNow
CALSCALE:GREGORIAN
BEGIN:VEVENT
UID:3a7048ee-2943-11f1-8572-0a58a9feac02
DTSTAMP:20260421T150555Z
SUMMARY:AHS-Class of 2026 Graduation!
URL;VALUE=URI:https://www.sau81.org/ahs/calendar/8947359/ahs-class-of-2026-
 graduation
DTSTART:20260611T230000Z
DTEND:20260612T003000Z
END:VEVENT
END:VCALENDAR
