BEGIN:VCALENDAR
VERSION:2.0
PRODID:SchoolNow
CALSCALE:GREGORIAN
BEGIN:VEVENT
UID:b4434b80-0c2e-11f1-afa4-0affd176e2dd
DTSTAMP:20260421T211051Z
SUMMARY:AHS-New Teacher Orientation
URL;VALUE=URI:https://www.sau81.org/ahs/calendar/8857848/ahs-new-teacher-or
 ientation
DTSTART;VALUE=DATE:20260817
DTEND;VALUE=DATE:20260819
END:VEVENT
END:VCALENDAR
