BEGIN:VCALENDAR
VERSION:2.0
PRODID:SchoolNow
CALSCALE:GREGORIAN
BEGIN:VEVENT
UID:b427f8da-0c2e-11f1-a1c8-0affd176e2dd
DTSTAMP:20260422T031556Z
SUMMARY:AHS-Winter Break
URL;VALUE=URI:https://www.sau81.org/ahs/calendar/8857847/ahs-winter-break
DTSTART;VALUE=DATE:20270222
DTEND;VALUE=DATE:20270227
END:VEVENT
END:VCALENDAR
