BEGIN:VCALENDAR
VERSION:2.0
PRODID:SchoolNow
CALSCALE:GREGORIAN
BEGIN:VEVENT
UID:b427f7e0-0c2e-11f1-a2d3-0affd176e2dd
DTSTAMP:20260421T211051Z
SUMMARY:AHS-No School
URL;VALUE=URI:https://www.sau81.org/ahs/calendar/8857846/ahs-no-school
DTSTART;VALUE=DATE:20261009
DTEND;VALUE=DATE:20261010
END:VEVENT
END:VCALENDAR
