BEGIN:VCALENDAR
VERSION:2.0
PRODID:SchoolNow
CALSCALE:GREGORIAN
BEGIN:VEVENT
UID:b427f6b4-0c2e-11f1-9627-0affd176e2dd
DTSTAMP:20260421T211051Z
SUMMARY:AHS - No School
URL;VALUE=URI:https://www.sau81.org/ahs/calendar/8857845/ahs-no-school
DTSTART;VALUE=DATE:20260904
DTEND;VALUE=DATE:20260905
END:VEVENT
END:VCALENDAR
