BEGIN:VCALENDAR
VERSION:2.0
PRODID:SchoolNow
CALSCALE:GREGORIAN
BEGIN:VEVENT
UID:b427f5b0-0c2e-11f1-9dbf-0affd176e2dd
DTSTAMP:20260422T031556Z
SUMMARY:AHS-MLK/Civil Rights Day (No School)
URL;VALUE=URI:https://www.sau81.org/ahs/calendar/8857844/ahs-mlk-civil-righ
 ts-day-no-school
DTSTART;VALUE=DATE:20270118
DTEND;VALUE=DATE:20270119
END:VEVENT
END:VCALENDAR
