BEGIN:VCALENDAR
VERSION:2.0
PRODID:SchoolNow
CALSCALE:GREGORIAN
BEGIN:VEVENT
UID:b427f43e-0c2e-11f1-a873-0affd176e2dd
DTSTAMP:20260422T031556Z
SUMMARY:AHS-Veteran's Day (No School)
URL;VALUE=URI:https://www.sau81.org/ahs/calendar/8857843/ahs-veterans-day-n
 o-school
DTSTART;VALUE=DATE:20261111
DTEND;VALUE=DATE:20261112
END:VEVENT
END:VCALENDAR
