BEGIN:VCALENDAR
VERSION:2.0
PRODID:SchoolNow
CALSCALE:GREGORIAN
BEGIN:VEVENT
UID:b427f27c-0c2e-11f1-837b-0affd176e2dd
DTSTAMP:20260421T211051Z
SUMMARY:AHS-No School (Teacher Workshop)
URL;VALUE=URI:https://www.sau81.org/ahs/calendar/8857842/ahs-no-school-teac
 her-workshop
DTSTART;VALUE=DATE:20260908
DTEND;VALUE=DATE:20260909
END:VEVENT
END:VCALENDAR
