BEGIN:VCALENDAR
VERSION:2.0
PRODID:SchoolNow
CALSCALE:GREGORIAN
BEGIN:VEVENT
UID:b427f0ce-0c2e-11f1-81f3-0affd176e2dd
DTSTAMP:20260422T152550Z
SUMMARY:AHS-Tentative Last day for students (includes 3 snow days)
URL;VALUE=URI:https://www.sau81.org/ahs/calendar/8857841/ahs-tentative-last
 -day-for-students-includes-3-snow-days
DTSTART;VALUE=DATE:20270617
DTEND;VALUE=DATE:20270618
END:VEVENT
END:VCALENDAR
