BEGIN:VCALENDAR
VERSION:2.0
PRODID:SchoolNow
CALSCALE:GREGORIAN
BEGIN:VEVENT
UID:b427efde-0c2e-11f1-b46e-0affd176e2dd
DTSTAMP:20260422T031556Z
SUMMARY:AHS-Teacher Workshop (Early Release day for Students)
URL;VALUE=URI:https://www.sau81.org/ahs/calendar/8857840/ahs-teacher-worksh
 op-early-release-day-for-students
DTSTART:20270210T162000Z
DTEND:20270210T191000Z
END:VEVENT
END:VCALENDAR
