BEGIN:VCALENDAR
VERSION:2.0
PRODID:SchoolNow
CALSCALE:GREGORIAN
BEGIN:VEVENT
UID:b427eebc-0c2e-11f1-8040-0affd176e2dd
DTSTAMP:20260422T092051Z
SUMMARY:AHS-Spring Break (No School)
URL;VALUE=URI:https://www.sau81.org/ahs/calendar/8857839/ahs-spring-break-n
 o-school
DTSTART;VALUE=DATE:20270426
DTEND;VALUE=DATE:20270501
END:VEVENT
END:VCALENDAR
