BEGIN:VCALENDAR
VERSION:2.0
PRODID:SchoolNow
CALSCALE:GREGORIAN
BEGIN:VEVENT
UID:b427ed40-0c2e-11f1-94bf-0affd176e2dd
DTSTAMP:20260422T152550Z
SUMMARY:AHS-Tentative Graduation date
URL;VALUE=URI:https://www.sau81.org/ahs/calendar/8857838/ahs-tentative-grad
 uation-date
DTSTART:20270610T230000Z
DTEND:20270611T080000Z
END:VEVENT
END:VCALENDAR
